BEGIN:VCALENDAR
VERSION:2.0
PRODID:-//pretix//pretix.eu//
BEGIN:VTIMEZONE
TZID:Europe/Berlin
BEGIN:STANDARD
DTSTART:20001029T040000
RRULE:FREQ=YEARLY;BYDAY=-1SU;BYMONTH=10
TZNAME:CET
TZOFFSETFROM:+0200
TZOFFSETTO:+0100
END:STANDARD
BEGIN:DAYLIGHT
DTSTART:20000326T030000
RRULE:FREQ=YEARLY;BYDAY=-1SU;BYMONTH=3
TZNAME:CEST
TZOFFSETFROM:+0100
TZOFFSETTO:+0200
END:DAYLIGHT
END:VTIMEZONE
BEGIN:VEVENT
UID:pretix-hoessen-wls-2647168@kurse.hoessen.de
DTSTART;TZID=Europe/Berlin:20211102T141500
DTEND;TZID=Europe/Berlin:20211102T151500
DESCRIPTION:Tickets: https://kurse.hoessen.de/wls/2647168/\nVeranstalter: H
 össensportzentrum
DTSTAMP:20260425T125121Z
SUMMARY:Bronze / Freischwimmer (Di. u. Fr. ab 2.11.\, 12 Termine)
END:VEVENT
END:VCALENDAR
