BEGIN:VCALENDAR
VERSION:2.0
PRODID:-//pretix//pretix.eu//
BEGIN:VTIMEZONE
TZID:Europe/Berlin
BEGIN:STANDARD
DTSTART:20001029T040000
RRULE:FREQ=YEARLY;BYDAY=-1SU;BYMONTH=10
TZNAME:CET
TZOFFSETFROM:+0200
TZOFFSETTO:+0100
END:STANDARD
BEGIN:DAYLIGHT
DTSTART:20000326T030000
RRULE:FREQ=YEARLY;BYDAY=-1SU;BYMONTH=3
TZNAME:CEST
TZOFFSETFROM:+0100
TZOFFSETTO:+0200
END:DAYLIGHT
END:VTIMEZONE
BEGIN:VEVENT
UID:pretix-hoessen-wls-3414157@kurse.hoessen.de
DTSTART;TZID=Europe/Berlin:20220725T100000
DTEND;TZID=Europe/Berlin:20220725T110000
DESCRIPTION:Tickets: https://kurse.hoessen.de/wls/3414157/\nVeranstalter: H
 össensportzentrum
DTSTAMP:20260424T231905Z
SUMMARY:Seepferdchen (Mo.\, Di.\, Do.\, Fr.\, 25.07. - 12.08.2022\, 10:00 b
 is 10:45 Uhr\, 12 Termine)
END:VEVENT
END:VCALENDAR
