BEGIN:VCALENDAR
VERSION:2.0
PRODID:-//pretix//pretix.eu//
BEGIN:VTIMEZONE
TZID:Europe/Berlin
BEGIN:STANDARD
DTSTART:20001029T040000
RRULE:FREQ=YEARLY;BYDAY=-1SU;BYMONTH=10
TZNAME:CET
TZOFFSETFROM:+0200
TZOFFSETTO:+0100
END:STANDARD
BEGIN:DAYLIGHT
DTSTART:20000326T030000
RRULE:FREQ=YEARLY;BYDAY=-1SU;BYMONTH=3
TZNAME:CEST
TZOFFSETFROM:+0100
TZOFFSETTO:+0200
END:DAYLIGHT
END:VTIMEZONE
BEGIN:VEVENT
UID:pretix-hoessen-wls-3414164@kurse.hoessen.de
DTSTART;TZID=Europe/Berlin:20230110T143000
DTEND;TZID=Europe/Berlin:20230110T153000
DESCRIPTION:Tickets: https://kurse.hoessen.de/wls/3414164/\nVeranstalter: H
 össensportzentrum
DTSTAMP:20260424T130320Z
SUMMARY:Bronze / Freischwimmer (Di.\, Fr.\, 10.01. - 17.02.2023\, 14:30 bis
  15:15 Uhr\, 12 Termine)
END:VEVENT
END:VCALENDAR
