BEGIN:VCALENDAR
VERSION:2.0
PRODID:-//pretix//pretix.eu//
BEGIN:VTIMEZONE
TZID:Europe/Berlin
BEGIN:STANDARD
DTSTART:20001029T040000
RRULE:FREQ=YEARLY;BYDAY=-1SU;BYMONTH=10
TZNAME:CET
TZOFFSETFROM:+0200
TZOFFSETTO:+0100
END:STANDARD
BEGIN:DAYLIGHT
DTSTART:20000326T030000
RRULE:FREQ=YEARLY;BYDAY=-1SU;BYMONTH=3
TZNAME:CEST
TZOFFSETFROM:+0100
TZOFFSETTO:+0200
END:DAYLIGHT
END:VTIMEZONE
BEGIN:VEVENT
UID:pretix-hoessen-wls-3950234@kurse.hoessen.de
DTSTART;TZID=Europe/Berlin:20230911T133000
DTEND;TZID=Europe/Berlin:20231109T000000
DESCRIPTION:Tickets: https://kurse.hoessen.de/wls/3950234/\nVeranstalter: H
 össensportzentrum
DTSTAMP:20260423T170749Z
SUMMARY:Seepferdchen (Mo.\, Do.\, 11.09. - 09.11.2023\, 13:30 bis 14:15 Uhr
 \, 12 Termine)
END:VEVENT
END:VCALENDAR
